BEGIN:VCALENDAR
VERSION:2.0
PRODID:-//Sabre//Sabre VObject 4.5.8//EN
CALSCALE:GREGORIAN
BEGIN:VEVENT
UID:sabre-vobject-7985c6e7-f9ce-41a5-a464-a7837b4fbb6e
DTSTAMP:20260424T034224Z
SUMMARY:Rosenkranz in St. Johann
DESCRIPTION:https://www2.bistum-augsburg.de/gottesdienste/rosenkranz-in-st-
 johann_id1731198
DTSTART;TZID=Europe/Berlin:20260502T191500
DURATION:PT30M
LOCATION:St. Georg\, Georgibergstraße 33\, 87656 Untergermaringen
END:VEVENT
END:VCALENDAR
