BEGIN:VCALENDAR
VERSION:2.0
PRODID:-//Sabre//Sabre VObject 4.5.8//EN
CALSCALE:GREGORIAN
BEGIN:VEVENT
UID:sabre-vobject-2f33357e-cbf8-49f1-ae4d-e0239c4fa16e
DTSTAMP:20260424T175634Z
SUMMARY:Heilige Messe in St. Johann mit Miniaufnahme
DESCRIPTION:https://www2.bistum-augsburg.de/gottesdienste/heilige-messe-in-
 st-johann-mit-miniaufnahme_id1731200
DTSTART;TZID=Europe/Berlin:20260503T104500
DURATION:PT30M
LOCATION:St. Georg\, Georgibergstraße 33\, 87656 Untergermaringen
END:VEVENT
END:VCALENDAR
