BEGIN:VCALENDAR
VERSION:2.0
PRODID:-//Sabre//Sabre VObject 4.5.8//EN
CALSCALE:GREGORIAN
BEGIN:VEVENT
UID:sabre-vobject-26725376-91fe-4a27-a91c-97f995622d11
DTSTAMP:20260424T144314Z
SUMMARY:Maiandacht mit eucharistischem Segen in St. Johann
DESCRIPTION:https://www2.bistum-augsburg.de/gottesdienste/maiandacht-mit-eu
 charistischem-segen-in-st-johann_id1731201
DTSTART;TZID=Europe/Berlin:20260503T191500
DURATION:PT30M
LOCATION:St. Georg\, Georgibergstraße 33\, 87656 Untergermaringen
END:VEVENT
END:VCALENDAR
