BEGIN:VCALENDAR
VERSION:2.0
PRODID:-//Sabre//Sabre VObject 4.5.8//EN
CALSCALE:GREGORIAN
BEGIN:VEVENT
UID:sabre-vobject-7dccf80a-ce75-4e03-8d20-fac37603a1ef
DTSTAMP:20260425T153211Z
SUMMARY:Feier der Heiligen Erstkommunion
DESCRIPTION:https://www2.bistum-augsburg.de/gottesdienste/feier-der-heilige
 n-erstkommunion_id1731257
DTSTART;TZID=Europe/Berlin:20260502T100000
DURATION:PT30M
LOCATION:St. Michael\, An d. Halde 21\, 87679 Westendorf
END:VEVENT
END:VCALENDAR
