BEGIN:VCALENDAR
VERSION:2.0
PRODID:-//Sabre//Sabre VObject 4.5.8//EN
CALSCALE:GREGORIAN
BEGIN:VEVENT
UID:sabre-vobject-1529a42b-181c-4997-a57c-c6de93ef292e
DTSTAMP:20260424T081624Z
SUMMARY:Maiandacht miit den Erstkommunionkindern (Musik: Bläsertrio)
DESCRIPTION:https://www2.bistum-augsburg.de/gottesdienste/maiandacht-miit-d
 en-erstkommunionkindern-musik-blaesertrio_id1731266
DTSTART;TZID=Europe/Berlin:20260503T180000
DURATION:PT30M
LOCATION:St. Vitus\, St.-Vitus-Platz 4\, 82393 Iffeldorf
END:VEVENT
END:VCALENDAR
