BEGIN:VCALENDAR
VERSION:2.0
PRODID:-//Sabre//Sabre VObject 4.5.8//EN
CALSCALE:GREGORIAN
BEGIN:VEVENT
UID:sabre-vobject-686229c6-8fb4-4ce6-9999-7492028f5ac1
DTSTAMP:20260424T020208Z
SUMMARY:Beichtgelegenheit
DESCRIPTION:https://www2.bistum-augsburg.de/gottesdienste/beichtgelegenheit
 _id1731277
DTSTART;TZID=Europe/Berlin:20260516T183000
DURATION:PT30M
LOCATION:Wallfahrtsdirektion Mariä Schmerzen
END:VEVENT
END:VCALENDAR
