BEGIN:VCALENDAR
VERSION:2.0
PRODID:-//Sabre//Sabre VObject 4.5.8//EN
CALSCALE:GREGORIAN
BEGIN:VEVENT
UID:sabre-vobject-8c1f3f4d-117e-4ad7-b90e-438c4b7e0427
DTSTAMP:20260425T234209Z
SUMMARY:Maiandacht (Musik: Orgel mit Volksgesang)
DESCRIPTION:https://www2.bistum-augsburg.de/gottesdienste/maiandacht-musik-
 orgel-mit-volksgesang_id1731315
DTSTART;TZID=Europe/Berlin:20260517T180000
DURATION:PT30M
LOCATION:St. Vitus\, St.-Vitus-Platz 4\, 82393 Iffeldorf
END:VEVENT
END:VCALENDAR
