BEGIN:VCALENDAR
VERSION:2.0
PRODID:-//Sabre//Sabre VObject 4.5.8//EN
CALSCALE:GREGORIAN
BEGIN:VEVENT
UID:sabre-vobject-2f36a429-d8b2-4ca3-b0d4-bc6940bddfa3
DTSTAMP:20260425T161424Z
SUMMARY:Rosenkranz
DESCRIPTION:https://www2.bistum-augsburg.de/gottesdienste/rosenkranz_id1731
 336
DTSTART;TZID=Europe/Berlin:20260428T184500
DURATION:PT30M
LOCATION:St. Margareta
END:VEVENT
END:VCALENDAR
