BEGIN:VCALENDAR
VERSION:2.0
PRODID:-//Sabre//Sabre VObject 4.5.8//EN
CALSCALE:GREGORIAN
BEGIN:VEVENT
UID:sabre-vobject-82ac83d5-5196-4efc-86c2-4347e832bf18
DTSTAMP:20260424T220840Z
SUMMARY:Heilige Messe für Eugen u. Anna Müller\, Ulrichs-Messe von H. Ner
 dinger für Chor und Volksgesang
DESCRIPTION:https://www2.bistum-augsburg.de/gottesdienste/heilige-messe-fue
 r-eugen-u-anna-mueller-ulrichs-messe-von-h-nerdinger-fuer-chor-und-volksge
 sang_id1731346
DTSTART;TZID=Europe/Berlin:20260503T090000
DURATION:PT30M
LOCATION:St. Martin\, Herzog-Georg-Straße 48\, 89415 Lauingen
END:VEVENT
END:VCALENDAR
