BEGIN:VCALENDAR
VERSION:2.0
PRODID:-//Sabre//Sabre VObject 4.5.8//EN
CALSCALE:GREGORIAN
BEGIN:VEVENT
UID:sabre-vobject-33e9aa81-a0b2-4ece-b0c5-dc99454c756e
DTSTAMP:20260424T085335Z
SUMMARY:Maiandacht an der Grotte mitgestaltet von der Singgruppe Buttenwies
 en (bei schlechten Wetter in der Kirche)\nanschl. Beisammensein bei Maibow
 le
DESCRIPTION:https://www2.bistum-augsburg.de/gottesdienste/maiandacht-an-der
 -grotte-mitgestaltet-von-der-singgruppe-buttenwiesen-bei-schlechten-wetter
 -in-der-kirche-anschl-beisammensein-bei-maibowle_id1731353
DTSTART;TZID=Europe/Berlin:20260517T190000
DURATION:PT30M
LOCATION:Hlgst. Dreifaltigkeit
END:VEVENT
END:VCALENDAR
