BEGIN:VCALENDAR
VERSION:2.0
PRODID:-//Sabre//Sabre VObject 4.5.8//EN
CALSCALE:GREGORIAN
BEGIN:VEVENT
UID:sabre-vobject-59f996d2-2292-4637-9e62-289ab85f1c79
DTSTAMP:20260424T220806Z
SUMMARY:Rosenkranzgebet
DESCRIPTION:https://www2.bistum-augsburg.de/gottesdienste/rosenkranzgebet_i
 d1731365
DTSTART;TZID=Europe/Berlin:20260503T133000
DURATION:PT30M
LOCATION:St. Stephan\, Deutschordenstraße\, 86647 Lauterbach
END:VEVENT
END:VCALENDAR
