BEGIN:VCALENDAR
VERSION:2.0
PRODID:-//Sabre//Sabre VObject 4.5.8//EN
CALSCALE:GREGORIAN
BEGIN:VEVENT
UID:sabre-vobject-f8a95c92-393c-455e-a412-d4efeca6e511
DTSTAMP:20260425T003612Z
SUMMARY:Pfarrmesse
DESCRIPTION:https://www2.bistum-augsburg.de/gottesdienste/pfarrmesse_id1731
 374
DTSTART;TZID=Europe/Berlin:20260426T103000
DURATION:PT30M
LOCATION:St. Sebastian
END:VEVENT
END:VCALENDAR
