BEGIN:VCALENDAR
VERSION:2.0
PRODID:-//Sabre//Sabre VObject 4.5.8//EN
CALSCALE:GREGORIAN
BEGIN:VEVENT
UID:sabre-vobject-53864012-84a9-4df1-9ac6-527319a9bb1e
DTSTAMP:20260426T024055Z
SUMMARY:Wortgottesdienst gestaltet vom Liturgiekreis
DESCRIPTION:https://www2.bistum-augsburg.de/gottesdienste/wortgottesdienst-
 gestaltet-vom-liturgiekreis_id1731376
DTSTART;TZID=Europe/Berlin:20260510T101500
DURATION:PT30M
LOCATION:St. Stephan\, Deutschordenstraße\, 86647 Lauterbach
END:VEVENT
END:VCALENDAR
