BEGIN:VCALENDAR
VERSION:2.0
PRODID:-//Sabre//Sabre VObject 4.5.8//EN
CALSCALE:GREGORIAN
BEGIN:VEVENT
UID:sabre-vobject-cd4b258f-cfc9-4b38-af53-e2ac295cf8ca
DTSTAMP:20260424T203340Z
SUMMARY:Vorabendmesse
DESCRIPTION:https://www2.bistum-augsburg.de/gottesdienste/vorabendmesse_id1
 731388
DTSTART;TZID=Europe/Berlin:20260516T191500
DURATION:PT30M
LOCATION:St. Stephan\, Deutschordenstraße\, 86647 Lauterbach
END:VEVENT
END:VCALENDAR
