BEGIN:VCALENDAR
VERSION:2.0
PRODID:-//Sabre//Sabre VObject 4.5.8//EN
CALSCALE:GREGORIAN
BEGIN:VEVENT
UID:sabre-vobject-7fb3fd4a-5e66-4f65-86c3-d52d5a0daae5
DTSTAMP:20260424T112945Z
SUMMARY:Gemeinsamer Kirchgang vom Kirchplatz nach St. Georg
DESCRIPTION:https://www2.bistum-augsburg.de/gottesdienste/gemeinsamer-kirch
 gang-vom-kirchplatz-nach-st-georg_id1731393
DTSTART;TZID=Europe/Berlin:20260426T101500
DURATION:PT30M
LOCATION:St. Georg\, Georgibergstraße 33\, 87656 Untergermaringen
END:VEVENT
END:VCALENDAR
