BEGIN:VCALENDAR
VERSION:2.0
PRODID:-//Sabre//Sabre VObject 4.5.8//EN
CALSCALE:GREGORIAN
BEGIN:VEVENT
UID:sabre-vobject-5f40ea21-54db-494f-a3b5-0d565917c6d0
DTSTAMP:20260425T002432Z
SUMMARY:Rosenkranzgebet
DESCRIPTION:https://www2.bistum-augsburg.de/gottesdienste/rosenkranzgebet_i
 d1731400
DTSTART;TZID=Europe/Berlin:20260510T133000
DURATION:PT30M
LOCATION:St. Stephan\, Deutschordenstraße\, 86647 Lauterbach
END:VEVENT
END:VCALENDAR
