BEGIN:VCALENDAR
VERSION:2.0
PRODID:-//Sabre//Sabre VObject 4.5.8//EN
CALSCALE:GREGORIAN
BEGIN:VEVENT
UID:sabre-vobject-8aa7ab4c-f38b-43bb-b397-1ec58bc79fff
DTSTAMP:20260424T223421Z
SUMMARY:Maiandacht mit allen Erstkommunionkinder
DESCRIPTION:https://www2.bistum-augsburg.de/gottesdienste/maiandacht-mit-al
 len-erstkommunionkinder_id1731416
DTSTART;TZID=Europe/Berlin:20260515T210000
DURATION:PT30M
LOCATION:St. Martin
END:VEVENT
END:VCALENDAR
