BEGIN:VCALENDAR
VERSION:2.0
PRODID:-//Sabre//Sabre VObject 4.5.8//EN
CALSCALE:GREGORIAN
BEGIN:VEVENT
UID:sabre-vobject-98abe6e3-98d1-47f8-a151-95a81b20dff7
DTSTAMP:20260424T035031Z
SUMMARY:Benefiizkonzert der Gruppe MiKaPeLa in St. Georg zugunsten der Kirc
 henrenovierung
DESCRIPTION:https://www2.bistum-augsburg.de/gottesdienste/benefiizkonzert-d
 er-gruppe-mikapela-in-st-georg-zugunsten-der-kirchenrenovierung_id1731419
DTSTART;TZID=Europe/Berlin:20260426T160000
DURATION:PT30M
LOCATION:St. Georg\, Georgibergstraße 33\, 87656 Untergermaringen
END:VEVENT
END:VCALENDAR
