BEGIN:VCALENDAR
VERSION:2.0
PRODID:-//Sabre//Sabre VObject 4.5.8//EN
CALSCALE:GREGORIAN
BEGIN:VEVENT
UID:sabre-vobject-37fece4d-3eb1-4c1e-a1c3-69068d43e177
DTSTAMP:20260424T064610Z
SUMMARY:Heilige Messe in St. Johann
DESCRIPTION:https://www2.bistum-augsburg.de/gottesdienste/heilige-messe-in-
 st-johann_id1731421
DTSTART;TZID=Europe/Berlin:20260428T191500
DURATION:PT30M
LOCATION:St. Georg\, Georgibergstraße 33\, 87656 Untergermaringen
END:VEVENT
END:VCALENDAR
