BEGIN:VCALENDAR
VERSION:2.0
PRODID:-//Sabre//Sabre VObject 4.5.8//EN
CALSCALE:GREGORIAN
BEGIN:VEVENT
UID:sabre-vobject-607db716-bf98-4803-a801-37394632264a
DTSTAMP:20260424T071734Z
SUMMARY:Eucharistiefeier entfällt
DESCRIPTION:https://www2.bistum-augsburg.de/gottesdienste/eucharistiefeier-
 entfaellt_id1731480
DTSTART;TZID=Europe/Berlin:20260507T180000
DURATION:PT30M
LOCATION:St. Michael
END:VEVENT
END:VCALENDAR
