BEGIN:VCALENDAR
VERSION:2.0
PRODID:-//Sabre//Sabre VObject 4.5.8//EN
CALSCALE:GREGORIAN
BEGIN:VEVENT
UID:sabre-vobject-488a51c0-4b2b-4c6a-bf42-d2b0843516e5
DTSTAMP:20260424T083901Z
SUMMARY:Flurumgang mit anschl.Festgottesdienst
DESCRIPTION:https://www2.bistum-augsburg.de/gottesdienste/flurumgang-mit-an
 schl-festgottesdienst_id1731487
DTSTART;TZID=Europe/Berlin:20260514T090000
DURATION:PT30M
LOCATION:Maria Hilf
END:VEVENT
END:VCALENDAR
