BEGIN:VCALENDAR
VERSION:2.0
PRODID:-//Sabre//Sabre VObject 4.5.8//EN
CALSCALE:GREGORIAN
BEGIN:VEVENT
UID:sabre-vobject-121cbf0f-65f4-4ef3-abfb-2a4480f20f3e
DTSTAMP:20260424T110517Z
SUMMARY:Rosenkranzgebet
DESCRIPTION:https://www2.bistum-augsburg.de/gottesdienste/rosenkranzgebet_i
 d1731488
DTSTART;TZID=Europe/Berlin:20260516T183000
DURATION:PT30M
LOCATION:Maria Hilf
END:VEVENT
END:VCALENDAR
