BEGIN:VCALENDAR
VERSION:2.0
PRODID:-//Sabre//Sabre VObject 4.5.8//EN
CALSCALE:GREGORIAN
BEGIN:VEVENT
UID:sabre-vobject-9767977f-6d2b-4931-b94e-d5f7d50a19de
DTSTAMP:20260425T114350Z
SUMMARY:Sonntagsgottesdienst
DESCRIPTION:https://www2.bistum-augsburg.de/gottesdienste/sonntagsgottesdie
 nst_id1731491
DTSTART;TZID=Europe/Berlin:20260517T090000
DURATION:PT30M
LOCATION:St. Nikolaus
END:VEVENT
END:VCALENDAR
