BEGIN:VCALENDAR
VERSION:2.0
PRODID:-//Sabre//Sabre VObject 4.5.8//EN
CALSCALE:GREGORIAN
BEGIN:VEVENT
UID:sabre-vobject-fbe6b3dd-39e9-4009-920d-f3211eaeafce
DTSTAMP:20260424T200658Z
SUMMARY:Heilige Messe auf der Hirschwiese d. Kalvarienberges (bei schlechte
 m Wetter in St. Mang) für die Pfarreiengemeinschaft
DESCRIPTION:https://www2.bistum-augsburg.de/gottesdienste/heilige-messe-auf
 -der-hirschwiese-d-kalvarienberges-bei-schlechtem-wetter-in-st-mang-fuer-d
 ie-pfarreiengemeinschaft_id1731508
DTSTART;TZID=Europe/Berlin:20260501T103000
DURATION:PT30M
LOCATION:St. Mang
END:VEVENT
END:VCALENDAR
