BEGIN:VCALENDAR
VERSION:2.0
PRODID:-//Sabre//Sabre VObject 4.5.8//EN
CALSCALE:GREGORIAN
BEGIN:VEVENT
UID:sabre-vobject-4dfb0005-3639-44ac-a4c7-2828add4daff
DTSTAMP:20260424T043245Z
SUMMARY:Bittmesse in St. Johannisrain
DESCRIPTION:https://www2.bistum-augsburg.de/gottesdienste/bittmesse-in-st-j
 ohannisrain_id1731512
DTSTART;TZID=Europe/Berlin:20260512T190000
DURATION:PT30M
LOCATION:Christkönig
END:VEVENT
END:VCALENDAR
