BEGIN:VCALENDAR
VERSION:2.0
PRODID:-//Sabre//Sabre VObject 4.5.8//EN
CALSCALE:GREGORIAN
BEGIN:VEVENT
UID:sabre-vobject-1746295e-28b7-4228-bbb5-57fd5904141f
DTSTAMP:20260423T125036Z
SUMMARY:Hl. Messe mit Feier der Erstkommunion
DESCRIPTION:https://www2.bistum-augsburg.de/gottesdienste/hl-messe-mit-feie
 r-der-erstkommunion_id1731514
DTSTART;TZID=Europe/Berlin:20260426T113000
DURATION:PT30M
LOCATION:Heilig Kreuz
END:VEVENT
END:VCALENDAR
