BEGIN:VCALENDAR
VERSION:2.0
PRODID:-//Sabre//Sabre VObject 4.5.8//EN
CALSCALE:GREGORIAN
BEGIN:VEVENT
UID:sabre-vobject-ce07c62f-1a59-4f69-98d1-2da338c8f045
DTSTAMP:20260424T144521Z
SUMMARY:Heilige Messe zum Fest Maria Schutzfrau von Bayern
DESCRIPTION:https://www2.bistum-augsburg.de/gottesdienste/heilige-messe-zum
 -fest-maria-schutzfrau-von-bayern_id1731524
DTSTART;TZID=Europe/Berlin:20260501T083000
DURATION:PT30M
LOCATION:St. Johannes Baptist
END:VEVENT
END:VCALENDAR
