BEGIN:VCALENDAR
VERSION:2.0
PRODID:-//Sabre//Sabre VObject 4.5.8//EN
CALSCALE:GREGORIAN
BEGIN:VEVENT
UID:sabre-vobject-743396aa-4acd-450c-af07-717dca695214
DTSTAMP:20260425T183954Z
SUMMARY:Pfarrgottesdienst Hl. Messe für die leb. u. verst. Mitglieder der 
 Pfarrgemeinde
DESCRIPTION:https://www2.bistum-augsburg.de/gottesdienste/pfarrgottesdienst
 -hl-messe-fuer-die-leb-u-verst-mitglieder-der-pfarrgemeinde_id1731535
DTSTART;TZID=Europe/Berlin:20260503T094500
DURATION:PT30M
LOCATION:St. Johannes Baptist
END:VEVENT
END:VCALENDAR
