BEGIN:VCALENDAR
VERSION:2.0
PRODID:-//Sabre//Sabre VObject 4.5.8//EN
CALSCALE:GREGORIAN
BEGIN:VEVENT
UID:sabre-vobject-d22dee3c-5f25-4962-be76-a368e74e69e1
DTSTAMP:20260424T074947Z
SUMMARY:Kirchenführung mit Besichtigung der Kirche und des Klosters St. Ma
 ng
DESCRIPTION:https://www2.bistum-augsburg.de/gottesdienste/kirchenfuehrung-m
 it-besichtigung-der-kirche-und-des-klosters-st-mang_id1731546
DTSTART;TZID=Europe/Berlin:20260425T103000
DURATION:PT30M
LOCATION:St. Mang
END:VEVENT
END:VCALENDAR
