BEGIN:VCALENDAR
VERSION:2.0
PRODID:-//Sabre//Sabre VObject 4.5.8//EN
CALSCALE:GREGORIAN
BEGIN:VEVENT
UID:sabre-vobject-68232967-6eaf-4d57-9758-2d5ea7cf4922
DTSTAMP:20260425T140037Z
SUMMARY:Beichtgelegenheit
DESCRIPTION:https://www2.bistum-augsburg.de/gottesdienste/beichtgelegenheit
 _id1731554
DTSTART;TZID=Europe/Berlin:20260425T173000
DURATION:PT30M
LOCATION:St. Mang
END:VEVENT
END:VCALENDAR
