BEGIN:VCALENDAR
VERSION:2.0
PRODID:-//Sabre//Sabre VObject 4.5.8//EN
CALSCALE:GREGORIAN
BEGIN:VEVENT
UID:sabre-vobject-55417181-3d82-4ea1-8b12-5a9df5e384ee
DTSTAMP:20260425T121529Z
SUMMARY:Heilige Messe
DESCRIPTION:https://www2.bistum-augsburg.de/gottesdienste/heilige-messe_id1
 731563
DTSTART;TZID=Europe/Berlin:20260521T190000
DURATION:PT30M
LOCATION:St. Georg\, St.-Georgs-Straße 6\, 86647 Wortelstetten
END:VEVENT
END:VCALENDAR
