BEGIN:VCALENDAR
VERSION:2.0
PRODID:-//Sabre//Sabre VObject 4.5.8//EN
CALSCALE:GREGORIAN
BEGIN:VEVENT
UID:sabre-vobject-52d876f9-7ec5-4e3e-a146-11713f44d859
DTSTAMP:20260425T021159Z
SUMMARY:Beichtgelegenheit
DESCRIPTION:https://www2.bistum-augsburg.de/gottesdienste/beichtgelegenheit
 _id1731574
DTSTART;TZID=Europe/Berlin:20260516T170000
DURATION:PT30M
LOCATION:Christkönig
END:VEVENT
END:VCALENDAR
