BEGIN:VCALENDAR
VERSION:2.0
PRODID:-//Sabre//Sabre VObject 4.5.8//EN
CALSCALE:GREGORIAN
BEGIN:VEVENT
UID:sabre-vobject-9b7d58fe-5568-4125-8537-3c42c5ed6d20
DTSTAMP:20260423T100927Z
SUMMARY:Eucharistische Anbetung
DESCRIPTION:https://www2.bistum-augsburg.de/gottesdienste/eucharistische-an
 betung_id1731584
DTSTART;TZID=Europe/Berlin:20260502T160000
DURATION:PT30M
LOCATION:Christkönig
END:VEVENT
END:VCALENDAR
