BEGIN:VCALENDAR
VERSION:2.0
PRODID:-//Sabre//Sabre VObject 4.5.8//EN
CALSCALE:GREGORIAN
BEGIN:VEVENT
UID:sabre-vobject-860bb9b7-ae53-48e4-b36b-a325ff148435
DTSTAMP:20260423T092529Z
SUMMARY:Rosenkranz
DESCRIPTION:https://www2.bistum-augsburg.de/gottesdienste/rosenkranz_id1731
 590
DTSTART;TZID=Europe/Berlin:20260505T170000
DURATION:PT30M
LOCATION:St. Michael
END:VEVENT
END:VCALENDAR
