BEGIN:VCALENDAR
VERSION:2.0
PRODID:-//Sabre//Sabre VObject 4.5.8//EN
CALSCALE:GREGORIAN
BEGIN:VEVENT
UID:sabre-vobject-aa666e15-1ead-44d8-9828-86c22fb2d039
DTSTAMP:20260424T090404Z
SUMMARY:Wallfahrt nach Andechs: Treffpunkt Hochschloss Pähl - Gemeinsamer 
 Fußweg nach Andechs
DESCRIPTION:https://www2.bistum-augsburg.de/gottesdienste/wallfahrt-nach-an
 dechs-treffpunkt-hochschloss-paehl-gemeinsamer-fussweg-nach-andechs_id1731
 595
DTSTART;TZID=Europe/Berlin:20260517T081500
DURATION:PT30M
LOCATION:Christkönig
END:VEVENT
END:VCALENDAR
