BEGIN:VCALENDAR
VERSION:2.0
PRODID:-//Sabre//Sabre VObject 4.5.8//EN
CALSCALE:GREGORIAN
BEGIN:VEVENT
UID:sabre-vobject-ed231401-5a0e-40b7-bdb6-934af18f6761
DTSTAMP:20260424T030040Z
SUMMARY:Eucharistiefeier anschl. Michaelstreff
DESCRIPTION:https://www2.bistum-augsburg.de/gottesdienste/eucharistiefeier-
 anschl-michaelstreff_id1731603
DTSTART;TZID=Europe/Berlin:20260510T090000
DURATION:PT30M
LOCATION:St. Michael
END:VEVENT
END:VCALENDAR
