BEGIN:VCALENDAR
VERSION:2.0
PRODID:-//Sabre//Sabre VObject 4.5.8//EN
CALSCALE:GREGORIAN
BEGIN:VEVENT
UID:sabre-vobject-2f15aea8-8135-40fe-81c2-b0e8263292b2
DTSTAMP:20260424T060755Z
SUMMARY:Eucharistiefeier
DESCRIPTION:https://www2.bistum-augsburg.de/gottesdienste/eucharistiefeier_
 id1731647
DTSTART;TZID=Europe/Berlin:20260508T090000
DURATION:PT30M
LOCATION:Christkönig
END:VEVENT
END:VCALENDAR
