BEGIN:VCALENDAR
VERSION:2.0
PRODID:-//Sabre//Sabre VObject 4.5.8//EN
CALSCALE:GREGORIAN
BEGIN:VEVENT
UID:sabre-vobject-f72dc353-df83-476e-a0b9-61cea8444d04
DTSTAMP:20260426T033758Z
SUMMARY:HM
DESCRIPTION:https://www2.bistum-augsburg.de/gottesdienste/hm_id1731655
DTSTART;TZID=Europe/Berlin:20260505T190000
DURATION:PT30M
LOCATION:St. Sebastian
END:VEVENT
END:VCALENDAR
