BEGIN:VCALENDAR
VERSION:2.0
PRODID:-//Sabre//Sabre VObject 4.5.8//EN
CALSCALE:GREGORIAN
BEGIN:VEVENT
UID:sabre-vobject-253f84a2-274b-4bb7-8d8a-b633645cddf4
DTSTAMP:20260423T142404Z
SUMMARY:Rosenkranz mit Rosenblätterwechsel
DESCRIPTION:https://www2.bistum-augsburg.de/gottesdienste/rosenkranz-mit-ro
 senblaetterwechsel_id1731660
DTSTART;TZID=Europe/Berlin:20260502T170000
DURATION:PT30M
LOCATION:St. Joseph\, Alte Salzstraße 47\, 88171 Simmerberg
END:VEVENT
END:VCALENDAR
