BEGIN:VCALENDAR
VERSION:2.0
PRODID:-//Sabre//Sabre VObject 4.5.8//EN
CALSCALE:GREGORIAN
BEGIN:VEVENT
UID:sabre-vobject-fbd84cf0-60b5-426f-93ff-13f9f2dd076e
DTSTAMP:20260423T212408Z
SUMMARY:Wortgottesdienst
DESCRIPTION:https://www2.bistum-augsburg.de/gottesdienste/wortgottesdienst_
 id1731665
DTSTART;TZID=Europe/Berlin:20260430T143000
DURATION:PT30M
LOCATION:St. Martin\, Herzog-Georg-Straße 48\, 89415 Lauingen
END:VEVENT
END:VCALENDAR
