BEGIN:VCALENDAR
VERSION:2.0
PRODID:-//Sabre//Sabre VObject 4.5.8//EN
CALSCALE:GREGORIAN
BEGIN:VEVENT
UID:sabre-vobject-b46b35a2-f78c-4907-998b-349ee690e331
DTSTAMP:20260425T021041Z
SUMMARY:Heilige Messe für d. Verst. d. Fam. Schuster u. Huber
DESCRIPTION:https://www2.bistum-augsburg.de/gottesdienste/heilige-messe-fue
 r-d-verst-d-fam-schuster-u-huber_id1731668
DTSTART;TZID=Europe/Berlin:20260428T190000
DURATION:PT30M
LOCATION:Mariä Himmelfahrt
END:VEVENT
END:VCALENDAR
