BEGIN:VCALENDAR
VERSION:2.0
PRODID:-//Sabre//Sabre VObject 4.5.8//EN
CALSCALE:GREGORIAN
BEGIN:VEVENT
UID:sabre-vobject-ca41fa11-25ea-4279-b509-a1d4da5f4a8f
DTSTAMP:20260425T175641Z
SUMMARY:Sonntagsgottesdienst
DESCRIPTION:https://www2.bistum-augsburg.de/gottesdienste/sonntagsgottesdie
 nst_id1731674
DTSTART;TZID=Europe/Berlin:20260426T100000
DURATION:PT30M
LOCATION:St. Margareta
END:VEVENT
END:VCALENDAR
