BEGIN:VCALENDAR
VERSION:2.0
PRODID:-//Sabre//Sabre VObject 4.5.8//EN
CALSCALE:GREGORIAN
BEGIN:VEVENT
UID:sabre-vobject-6367c285-c995-4bbb-b42e-1d340b144331
DTSTAMP:20260424T112614Z
SUMMARY:Tauffeier
DESCRIPTION:https://www2.bistum-augsburg.de/gottesdienste/tauffeier_id17317
 07
DTSTART;TZID=Europe/Berlin:20260517T140000
DURATION:PT30M
LOCATION:St. Mauritius
END:VEVENT
END:VCALENDAR
