BEGIN:VCALENDAR
VERSION:2.0
PRODID:-//Sabre//Sabre VObject 4.5.8//EN
CALSCALE:GREGORIAN
BEGIN:VEVENT
UID:sabre-vobject-d1c86b4d-e05d-4270-93c9-37cb5ca2cce5
DTSTAMP:20260424T031313Z
SUMMARY:Eucharistiefeier zur Friedenswallfahrt
DESCRIPTION:https://www2.bistum-augsburg.de/gottesdienste/eucharistiefeier-
 zur-friedenswallfahrt_id1731719
DTSTART;TZID=Europe/Berlin:20260514T193000
DURATION:PT30M
LOCATION:Heilig Kreuz
END:VEVENT
END:VCALENDAR
