BEGIN:VCALENDAR
VERSION:2.0
PRODID:-//Sabre//Sabre VObject 4.5.8//EN
CALSCALE:GREGORIAN
BEGIN:VEVENT
UID:sabre-vobject-0d3a3900-2ec0-476a-8341-aa6387fb1680
DTSTAMP:20260424T233804Z
SUMMARY:Hl. Messe für die Pfarrgemeinde
DESCRIPTION:https://www2.bistum-augsburg.de/gottesdienste/hl-messe-fuer-die
 -pfarrgemeinde_id1731740
DTSTART;TZID=Europe/Berlin:20260503T101500
DURATION:PT30M
LOCATION:St. Mauritius und Gefährten\, Kirchberg 10\, 89335 Ichenhausen
END:VEVENT
END:VCALENDAR
