BEGIN:VCALENDAR
VERSION:2.0
PRODID:-//Sabre//Sabre VObject 4.5.8//EN
CALSCALE:GREGORIAN
BEGIN:VEVENT
UID:sabre-vobject-79fb46f5-610d-455d-9d6b-ac927ed65dfc
DTSTAMP:20260424T114907Z
SUMMARY:Silbersonntag: Opfer für das Heinrich-Sinz-Haus \nHl. Messe für d
 ie Verstorbenen des Monats April: \nf. Maria Spiegler\, Anna Pfob\, Franzi
 ska Kirzinger\, \nHermann Göppel u. Egydius Regensburger
DESCRIPTION:https://www2.bistum-augsburg.de/gottesdienste/silbersonntag-opf
 er-fuer-das-heinrich-sinz-haus-hl-messe-fuer-die-verstorbenen-des-monats-a
 pril-f-maria-spiegler-anna-pfob-franziska-kirzinger-hermann-goeppel-u-egyd
 ius-regensburger_id1731754
DTSTART;TZID=Europe/Berlin:20260503T101500
DURATION:PT30M
LOCATION:St. Johannes Baptist\, Heinrich-Sinz-Straße 6\, 89335 Ichenhausen
END:VEVENT
END:VCALENDAR
