BEGIN:VCALENDAR
VERSION:2.0
PRODID:-//Sabre//Sabre VObject 4.5.8//EN
CALSCALE:GREGORIAN
BEGIN:VEVENT
UID:sabre-vobject-d19ede90-c6c7-4be0-a154-d7332410ec2d
DTSTAMP:20260424T020303Z
SUMMARY:Hl. Amt für die Lebenden u. Verstorbenen der Pfarrei
DESCRIPTION:https://www2.bistum-augsburg.de/gottesdienste/hl-amt-fuer-die-l
 ebenden-u-verstorbenen-der-pfarrei_id1731757
DTSTART;TZID=Europe/Berlin:20260510T100000
DURATION:PT30M
LOCATION:St. Martin\, Herzog-Georg-Straße 48\, 89415 Lauingen
END:VEVENT
END:VCALENDAR
