BEGIN:VCALENDAR
VERSION:2.0
PRODID:-//Sabre//Sabre VObject 4.5.8//EN
CALSCALE:GREGORIAN
BEGIN:VEVENT
UID:sabre-vobject-3f31c2e6-0e55-4605-a57f-6e17f7267639
DTSTAMP:20260424T174407Z
SUMMARY:Bittgang zur Herrgottsruhkapelle ab "schwarzer Weg"
DESCRIPTION:https://www2.bistum-augsburg.de/gottesdienste/bittgang-zur-herr
 gottsruhkapelle-ab-schwarzer-weg_id1731758
DTSTART;TZID=Europe/Berlin:20260511T183000
DURATION:PT30M
LOCATION:St. Martin\, Herzog-Georg-Straße 48\, 89415 Lauingen
END:VEVENT
END:VCALENDAR
