BEGIN:VCALENDAR
VERSION:2.0
PRODID:-//Sabre//Sabre VObject 4.5.8//EN
CALSCALE:GREGORIAN
BEGIN:VEVENT
UID:sabre-vobject-bc7340ac-c9e6-4dfa-af17-8f7aa1d194bf
DTSTAMP:20260423T124121Z
SUMMARY:Pfarrmesse
DESCRIPTION:https://www2.bistum-augsburg.de/gottesdienste/pfarrmesse_id1731
 764
DTSTART;TZID=Europe/Berlin:20260503T090000
DURATION:PT30M
LOCATION:St. Bartholomäus
END:VEVENT
END:VCALENDAR
