BEGIN:VCALENDAR
VERSION:2.0
PRODID:-//Sabre//Sabre VObject 4.5.8//EN
CALSCALE:GREGORIAN
BEGIN:VEVENT
UID:sabre-vobject-cb263125-543c-45b8-bd4f-f67b4a7187c1
DTSTAMP:20260424T083945Z
SUMMARY:Beichtgelegenheit
DESCRIPTION:https://www2.bistum-augsburg.de/gottesdienste/beichtgelegenheit
 _id1731768
DTSTART;TZID=Europe/Berlin:20260425T170000
DURATION:PT30M
LOCATION:Christkönig
END:VEVENT
END:VCALENDAR
